BEGIN:VCALENDAR
VERSION:2.0
PRODID:-//David Kibler - ECPv6.15.20//NONSGML v1.0//EN
CALSCALE:GREGORIAN
METHOD:PUBLISH
X-WR-CALNAME:David Kibler
X-ORIGINAL-URL:https://davidkibler.com
X-WR-CALDESC:Events for David Kibler
REFRESH-INTERVAL;VALUE=DURATION:PT1H
X-Robots-Tag:noindex
X-PUBLISHED-TTL:PT1H
BEGIN:VTIMEZONE
TZID:UTC
BEGIN:STANDARD
TZOFFSETFROM:+0000
TZOFFSETTO:+0000
TZNAME:UTC
DTSTART:20220101T000000
END:STANDARD
END:VTIMEZONE
BEGIN:VEVENT
DTSTART;TZID=UTC:20230211T080000
DTEND;TZID=UTC:20230211T120000
DTSTAMP:20260422T173132
CREATED:20230122T002648Z
LAST-MODIFIED:20230123T213450Z
UID:100170-1676102400-1676116800@davidkibler.com
SUMMARY:Book Launch and signing
DESCRIPTION:Official launch of my first book\, “Eight Things I Wish I Knew Before I Said ‘I Do.” Come get a signed copy\, drink some great coffee\, and get a great resource for marriage!
URL:https://davidkibler.com/event/book-launch-and-signing/
LOCATION:McLeod’s Coffee House\, 376 Southland Drive\, Lexington\, KY\, United States
CATEGORIES:Book Signing
ATTACH;FMTTYPE=image/png:https://davidkibler.com/wp-content/uploads/2023/01/mcleods_coffee.png
END:VEVENT
END:VCALENDAR